BEGIN:VCALENDAR
VERSION:2.0
PRODID:-//Nine Ways to Love Calendar//NONSGML v1.0//EN
CALSCALE:GREGORIAN
METHOD:PUBLISH
X-WR-CALNAME:Nine Ways to Love Calendar
X-ORIGINAL-URL:http://ninewaystolove.com/site/calendar
X-WR-CALDESC:Events for Nine Ways to Love Calendar
BEGIN:VEVENT
DTSTART;VALUE=DATE-TIME:20110312T100000
DTEND;VALUE=DATE-TIME:20110312T160000
DTSTAMP:20260421T055701
CREATED:20110207T144136
LAST-MODIFIED:20110208T112948
UID:24@http://ninewaystolove.com/site/calendar
SUMMARY:Nine Ways to Love
DESCRIPTION:Would you like to know the love types you're most compatible with in a relationship? Would you like to find out what makes your mate feel loved and happy? For those of you who are single and ready to find your mate\, this class will help you attract the relationship you've always wanted. For those who are already in a relationship\, this class will help you continue to  grow and deepen your connection with your mate.     Learn all about the nine love types   Find out how to tap into that "bigger than both of us" love that brings two people together and how to keep it alive   Understand why you and your mate relate the way you do and how to create something new  
LOCATION:
URL:http://ninewaystolove.com/site/calendar/event/nine-ways-to-love/
END:VEVENT
END:VCALENDAR