BEGIN:VCALENDAR
VERSION:2.0
PRODID:-//Nine Ways to Love Calendar//NONSGML v1.0//EN
CALSCALE:GREGORIAN
METHOD:PUBLISH
X-WR-CALNAME:Nine Ways to Love Calendar
X-ORIGINAL-URL:http://ninewaystolove.com/site/calendar
X-WR-CALDESC:Events for Nine Ways to Love Calendar
BEGIN:VEVENT
DTSTART;VALUE=DATE-TIME:20110531T190000
DTEND;VALUE=DATE-TIME:20110531T210000
DTSTAMP:20260420T202759
CREATED:20110401T080214
LAST-MODIFIED:20110401T080214
UID:49@http://ninewaystolove.com/site/calendar
SUMMARY:The Enneagram and Your Relationships
DESCRIPTION:Would you like to know which love types you're most compatible with in a relationship?    Would you like to discover what makes your mate feel loved and happy?    For those of you who are single and ready to find your mate\, this class will help you attract a partner and create the relationship you've always wanted.    For those who are already in a relationship\, this class will help you understand each other in a deeper way and strengthen your heart to heart connection.     Learn all about the nine love types.   Find out how to tap into that "bigger than both of us" love that brings two people together.   Understand why you and your mate relate the way you do and how to create something new.    5 Tuesday Evenings    Dates: May 3rd\, 10th\, 17th\, 24th\, and 31st    Time: 7 to 9 pm
LOCATION:8900 Arapahoe Road
URL:http://ninewaystolove.com/site/calendar/event/the-enneagram-and-your-relationships-5/
END:VEVENT
END:VCALENDAR