BEGIN:VCALENDAR
VERSION:2.0
PRODID:-//Nine Ways to Love Calendar//NONSGML v1.0//EN
CALSCALE:GREGORIAN
METHOD:PUBLISH
X-WR-CALNAME:Nine Ways to Love Calendar
X-ORIGINAL-URL:http://ninewaystolove.com/site/calendar
X-WR-CALDESC:Events for Nine Ways to Love Calendar
BEGIN:VEVENT
DTSTART;VALUE=DATE-TIME:20110421T190000
DTEND;VALUE=DATE-TIME:20110421T213000
DTSTAMP:20260420T202856
CREATED:20110330T105148
LAST-MODIFIED:20110330T105148
UID:41@http://ninewaystolove.com/site/calendar
SUMMARY:The Enneagram and Your Relationships with Julia Foster and exemplars of the nine types
DESCRIPTION:Would you like to know which love types you're most compatible with in a relationship?  Would you like to discover what makes your mate feel loved and happy?  For those of you who are single and ready to find your mate\, this class will help you create the relationship you've always wanted.  For those already in a relationship\, this class will help you understand each other in a deeper way and strengthen your heart to heart connection.     Learn all about the nine love types   Find out how to tap into that "bigger than both of us" love that brings two people together   Understand why you and your mate relate the way you do and how to create something new.    3 Thursday evenings---April 14th\, 21st\, and 28th    April 14th---types 2\, 3\, and 4  April 21st---type 5\, 6\, and 7  April 28th---type 8\, 9\, and 1    Time: 7 to 9:30 p.m.    Tuition is $25 per evening  and $60 for all three.    To register\, please contact Julia Foster at  julia@ninewaystolove.com.
LOCATION:1939 South Monroe Street
URL:http://ninewaystolove.com/site/calendar/event/the-enneagram-and-your-relationships-with-julia-foster-and-exemplars-of-the-nine-types-2/
END:VEVENT
END:VCALENDAR