BEGIN:VCALENDAR
VERSION:2.0
PRODID:-//Nine Ways to Love Calendar//NONSGML v1.0//EN
CALSCALE:GREGORIAN
METHOD:PUBLISH
X-WR-CALNAME:Nine Ways to Love Calendar
X-ORIGINAL-URL:http://ninewaystolove.com/site/calendar
X-WR-CALDESC:Events for Nine Ways to Love Calendar
BEGIN:VEVENT
DTSTART;VALUE=DATE-TIME:20110531T190000
DTEND;VALUE=DATE-TIME:20110531T210000
DTSTAMP:20260420T162031
CREATED:20110401T080214
LAST-MODIFIED:20110401T080214
UID:49@http://ninewaystolove.com/site/calendar
SUMMARY:The Enneagram and Your Relationships
DESCRIPTION:Would you like to know which love types you're most compatible with in a relationship?    Would you like to discover what makes your mate feel loved and happy?    For those of you who are single and ready to find your mate\, this class will help you attract a partner and create the relationship you've always wanted.    For those who are already in a relationship\, this class will help you understand each other in a deeper way and strengthen your heart to heart connection.     Learn all about the nine love types.   Find out how to tap into that "bigger than both of us" love that brings two people together.   Understand why you and your mate relate the way you do and how to create something new.    5 Tuesday Evenings    Dates: May 3rd\, 10th\, 17th\, 24th\, and 31st    Time: 7 to 9 pm
LOCATION:8900 Arapahoe Road
URL:http://ninewaystolove.com/site/calendar/event/the-enneagram-and-your-relationships-5/
END:VEVENT
BEGIN:VEVENT
DTSTART;VALUE=DATE-TIME:20110524T190000
DTEND;VALUE=DATE-TIME:20110524T210000
DTSTAMP:20260420T162031
CREATED:20110401T080121
LAST-MODIFIED:20110401T080121
UID:48@http://ninewaystolove.com/site/calendar
SUMMARY:The Enneagram and Your Relationships
DESCRIPTION:Would you like to know which love types you're most compatible with in a relationship?  Would you like to discover what makes your mate feel loved and happy?    For those of you who are single and ready to find your mate\, this class will help you attract a partner and create the relationship you've always wanted.    For those who are already in a relationship\, this class will help you understand each other in a deeper way and strengthen your heart to heart connection.     Learn all about the nine love types.   Find out how to tap into that "bigger than both of us" love that brings two people together.   Understand why you and your mate relate the way you do and how to create something new.    5 Tuesday Evenings  Dates: May 3rd\, 10th\, 17th\, 24th\, and 31st    Time: 7 to 9 pm
LOCATION:8900 Arapahoe Road
URL:http://ninewaystolove.com/site/calendar/event/the-enneagram-and-your-relationships-4/
END:VEVENT
BEGIN:VEVENT
DTSTART;VALUE=DATE-TIME:20110517T190000
DTEND;VALUE=DATE-TIME:20110517T210000
DTSTAMP:20260420T162031
CREATED:20110401T080026
LAST-MODIFIED:20110401T080026
UID:47@http://ninewaystolove.com/site/calendar
SUMMARY:The Enneagram and Your Relationships
DESCRIPTION:Would you like to know which love types you're most compatible with in a relationship?  Would you like to discover what makes your mate feel loved and happy?    For those of you who are single and ready to find your mate\, this class will help you attract a partner and create the relationship you've always wanted.    For those who are already in a relationship\, this class will help you understand each other in a deeper way and strengthen your heart to heart connection.     Learn all about the nine love types.   Find out how to tap into that "bigger than both of us" love that brings two people together.   Understand why you and your mate relate the way you do and how to create something new.    5 Tuesday Evenings  Dates: May 3rd\, 10th\, 17th\, 24th\, and 31st    Time: 7 to 9 pm  
LOCATION:8900 Arapahoe Road
URL:http://ninewaystolove.com/site/calendar/event/the-enneagram-and-your-relationships-3/
END:VEVENT
BEGIN:VEVENT
DTSTART;VALUE=DATE-TIME:20110510T190000
DTEND;VALUE=DATE-TIME:20110510T210000
DTSTAMP:20260420T162031
CREATED:20110401T075931
LAST-MODIFIED:20110401T075931
UID:46@http://ninewaystolove.com/site/calendar
SUMMARY:The Enneagram and Your Relationships
DESCRIPTION:Would you like to know which love types you're most compatible with in a relationship?  Would you like to discover what makes your mate feel loved and happy?    For those of you who are single and ready to find your mate\, this class will help you attract a partner and create the relationship you've always wanted.    For those who are already in a relationship\, this class will help you understand each other in a deeper way and strengthen your heart to heart connection.     Learn all about the nine love types.   Find out how to tap into that "bigger than both of us" love that brings two people together.   Understand why you and your mate relate the way you do and how to create something new.    5 Tuesday Evenings  Dates: May 3rd\, 10th\, 17th\, 24th\, and 31st    Time: 7 to 9 pm
LOCATION:8900 Arapahoe Road
URL:http://ninewaystolove.com/site/calendar/event/the-enneagram-and-your-relationships-2/
END:VEVENT
BEGIN:VEVENT
DTSTART;VALUE=DATE-TIME:20110503T190000
DTEND;VALUE=DATE-TIME:20110503T210000
DTSTAMP:20260420T162031
CREATED:20110401T075833
LAST-MODIFIED:20110401T075833
UID:44@http://ninewaystolove.com/site/calendar
SUMMARY:The Enneagram and Your Relationships
DESCRIPTION:Would you like to know which love types you're most compatible with in a relationship?  Would you like to discover what makes your mate feel loved and happy?    For those of you who are single and ready to find your mate\, this class will help you attract a partner and create the relationship you've always wanted.    For those who are already in a relationship\, this class will help you understand each other in a deeper way and strengthen your heart to heart connection.     Learn all about the nine love types.   Find out how to tap into that "bigger than both of us" love that brings two people together.   Understand why you and your mate relate the way you do and how to create something new.    5 Tuesday Evenings  Dates: May 3rd\, 10th\, 17th\, 24th\, and 31st    Time: 7 to 9 pm
LOCATION:8900 Arapahoe Road
URL:http://ninewaystolove.com/site/calendar/event/the-enneagram-and-your-relationships/
END:VEVENT
BEGIN:VEVENT
DTSTART;VALUE=DATE-TIME:20110428T190000
DTEND;VALUE=DATE-TIME:20110428T213000
DTSTAMP:20260420T162031
CREATED:20110330T105305
LAST-MODIFIED:20110330T105451
UID:42@http://ninewaystolove.com/site/calendar
SUMMARY:The Enneagram and Your Relationships with Julia Foster and exemplars of the nine types
DESCRIPTION:    Would you like to know which love types you’re most compatible with in a relationship?  Would you like to discover what makes your mate feel loved and happy?  For those of you who are single and ready to find your mate\, this class will help you create the relationship you’ve always wanted.  For those already in a relationship\, this class will help you understand each other in a deeper way and strengthen your heart to heart connection.     Learn all about the nine love types   Find out how to tap into that “bigger than both of us” love that brings two people together   Understand why you and your mate relate the way you do and how to create something new.    3 Thursday evenings—April 14th\, 21st\, and 28th    April 14th—types 2\, 3\, and 4  April 21st—type 5\, 6\, and 7  April 28th—type 8\, 9\, and 1    Time: 7 to 9:30 p.m.    Tuition is $25 per evening  and $60 for all three.    To register\, please contact Julia Foster at  julia@ninewaystolove.com.    
LOCATION:8900 Arapahoe Road
URL:http://ninewaystolove.com/site/calendar/event/the-enneagram-and-your-relationships-with-julia-foster-and-exemplars-of-the-nine-types-3/
END:VEVENT
BEGIN:VEVENT
DTSTART;VALUE=DATE-TIME:20110421T190000
DTEND;VALUE=DATE-TIME:20110421T213000
DTSTAMP:20260420T162031
CREATED:20110330T105148
LAST-MODIFIED:20110330T105148
UID:41@http://ninewaystolove.com/site/calendar
SUMMARY:The Enneagram and Your Relationships with Julia Foster and exemplars of the nine types
DESCRIPTION:Would you like to know which love types you're most compatible with in a relationship?  Would you like to discover what makes your mate feel loved and happy?  For those of you who are single and ready to find your mate\, this class will help you create the relationship you've always wanted.  For those already in a relationship\, this class will help you understand each other in a deeper way and strengthen your heart to heart connection.     Learn all about the nine love types   Find out how to tap into that "bigger than both of us" love that brings two people together   Understand why you and your mate relate the way you do and how to create something new.    3 Thursday evenings---April 14th\, 21st\, and 28th    April 14th---types 2\, 3\, and 4  April 21st---type 5\, 6\, and 7  April 28th---type 8\, 9\, and 1    Time: 7 to 9:30 p.m.    Tuition is $25 per evening  and $60 for all three.    To register\, please contact Julia Foster at  julia@ninewaystolove.com.
LOCATION:8900 Arapahoe Road
URL:http://ninewaystolove.com/site/calendar/event/the-enneagram-and-your-relationships-with-julia-foster-and-exemplars-of-the-nine-types-2/
END:VEVENT
BEGIN:VEVENT
DTSTART;VALUE=DATE-TIME:20110414T190000
DTEND;VALUE=DATE-TIME:20110414T213000
DTSTAMP:20260420T162031
CREATED:20110330T104835
LAST-MODIFIED:20110330T105052
UID:38@http://ninewaystolove.com/site/calendar
SUMMARY:The Enneagram and Your Relationships with Julia Foster and exemplars of the nine types
DESCRIPTION:Would you like to know which love types you're most compatible with in a relationship?  Would you like to discover what makes your mate feel loved and happy?  For those of you who are single and ready to find your mate\, this class will help you create the relationship you've always wanted.  For those already in a relationship\, this class will help you understand each other in a deeper way and strengthen your heart to heart connection.     Learn all about the nine love types   Find out how to tap into that "bigger than both of us" love that brings two people together   Understand why you and your mate relate the way you do and how to create something new.    3 Thursday evenings---April 14th\, 21st\, and 28th    April 14th---types 2\, 3\, and 4  April 21st---type 5\, 6\, and 7  April 28th---type 8\, 9\, and 1    Time: 7 to 9:30 p.m.    Tuition is $25 per evening  and $60 for all three.    To register\, please contact Julia Foster at  julia@ninewaystolove.com.
LOCATION:8900 Arapahoe Road
URL:http://ninewaystolove.com/site/calendar/event/the-enneagram-and-your-relationships-with-julia-foster-and-exemplars-of-the-nine-types/
END:VEVENT
BEGIN:VEVENT
DTSTART;VALUE=DATE-TIME:20110312T100000
DTEND;VALUE=DATE-TIME:20110312T160000
DTSTAMP:20260420T162031
CREATED:20110207T144136
LAST-MODIFIED:20110208T112948
UID:24@http://ninewaystolove.com/site/calendar
SUMMARY:Nine Ways to Love
DESCRIPTION:Would you like to know the love types you're most compatible with in a relationship? Would you like to find out what makes your mate feel loved and happy? For those of you who are single and ready to find your mate\, this class will help you attract the relationship you've always wanted. For those who are already in a relationship\, this class will help you continue to  grow and deepen your connection with your mate.     Learn all about the nine love types   Find out how to tap into that "bigger than both of us" love that brings two people together and how to keep it alive   Understand why you and your mate relate the way you do and how to create something new  
LOCATION:8900 Arapahoe Road
URL:http://ninewaystolove.com/site/calendar/event/nine-ways-to-love/
END:VEVENT
END:VCALENDAR